BEGIN:VCALENDAR
VERSION:2.0
PRODID:-//INSiGHT CLA - ECPv6.15.20//NONSGML v1.0//EN
CALSCALE:GREGORIAN
METHOD:PUBLISH
X-WR-CALNAME:INSiGHT CLA
X-ORIGINAL-URL:https://insightcla.com
X-WR-CALDESC:Events for INSiGHT CLA
REFRESH-INTERVAL;VALUE=DURATION:PT1H
X-Robots-Tag:noindex
X-PUBLISHED-TTL:PT1H
BEGIN:VTIMEZONE
TZID:UTC
BEGIN:STANDARD
TZOFFSETFROM:+0000
TZOFFSETTO:+0000
TZNAME:UTC
DTSTART:20220101T000000
END:STANDARD
END:VTIMEZONE
BEGIN:VEVENT
DTSTART;TZID=UTC:20231006T000000
DTEND;TZID=UTC:20231007T000000
DTSTAMP:20260421T101514
CREATED:20230530T192637Z
LAST-MODIFIED:20230530T192637Z
UID:41591-1696550400-1696636800@insightcla.com
SUMMARY:TRP US Attraction Immersion 2023 Pheonix
DESCRIPTION:2 DAY MASTERCLASS-LEARN FROM THE BEST IN THE CHIROPRACTIC BUSINESS.\n\nIntense & comprehensive LIVE training\nTraining for chiropractors and teams\nAttract the RIGHT patients\nDr. David Fletcher will be speaking at this event
URL:https://insightcla.com/event/attraction-immersion-2023/
LOCATION:Sheraton Phoenix Downtown\, 340 North 3rd Street\, Phoenix\, AZ\, 85004\, United States
CATEGORIES:Dr. David Fletcher Speaking
ORGANIZER;CN="The Remarkable Practice US":MAILTO:support@theremarkablepractice.com
END:VEVENT
END:VCALENDAR