BEGIN:VCALENDAR
VERSION:2.0
PRODID:-//INSiGHT CLA - ECPv6.15.20//NONSGML v1.0//EN
CALSCALE:GREGORIAN
METHOD:PUBLISH
X-WR-CALNAME:INSiGHT CLA
X-ORIGINAL-URL:https://insightcla.com
X-WR-CALDESC:Events for INSiGHT CLA
REFRESH-INTERVAL;VALUE=DURATION:PT1H
X-Robots-Tag:noindex
X-PUBLISHED-TTL:PT1H
BEGIN:VTIMEZONE
TZID:UTC
BEGIN:STANDARD
TZOFFSETFROM:+0000
TZOFFSETTO:+0000
TZNAME:UTC
DTSTART:20250101T000000
END:STANDARD
END:VTIMEZONE
BEGIN:VEVENT
DTSTART;TZID=UTC:20260420T080000
DTEND;TZID=UTC:20260424T170000
DTSTAMP:20260420T115826
CREATED:20260326T004424Z
LAST-MODIFIED:20260326T004501Z
UID:44274-1776672000-1777050000@insightcla.com
SUMMARY:Chiro Business Summit 2026
DESCRIPTION:THE CHIRO BUSINESS SUMMIT 2026\nBuild the Future of Your Practice —Powered by Smart Business.\nExperience four powerful days with the coaches\, software leaders\, clinical innovators\, and visionaries helping chiropractors build stronger\, more profitable\, and more scalable practices. \nJoin Dr. Beau Pierce\, Dr. Jason Deitch & Dr. Jeff Langmaid for four days of strategy\, systems\, innovation\, leadership\, exclusive discounts\, and the smartest business solutions shaping modern chiropractic. \nDr. David Fletcher will be giving a 30 minute presentaion during the Summit!
URL:https://insightcla.com/event/chiro-business-summit-2026/
LOCATION:Virtual
CATEGORIES:Dr. David Fletcher Speaking
END:VEVENT
END:VCALENDAR