BEGIN:VCALENDAR
VERSION:2.0
PRODID:-//INSiGHT CLA - ECPv6.15.20//NONSGML v1.0//EN
CALSCALE:GREGORIAN
METHOD:PUBLISH
X-ORIGINAL-URL:https://insightcla.com
X-WR-CALDESC:Events for INSiGHT CLA
REFRESH-INTERVAL;VALUE=DURATION:PT1H
X-Robots-Tag:noindex
X-PUBLISHED-TTL:PT1H
BEGIN:VTIMEZONE
TZID:UTC
BEGIN:STANDARD
TZOFFSETFROM:+0000
TZOFFSETTO:+0000
TZNAME:UTC
DTSTART:20230101T000000
END:STANDARD
END:VTIMEZONE
BEGIN:VEVENT
DTSTART;TZID=UTC:20240308T000000
DTEND;TZID=UTC:20240309T000000
DTSTAMP:20260419T161222
CREATED:20231208T195101Z
LAST-MODIFIED:20231208T195101Z
UID:41955-1709856000-1709942400@insightcla.com
SUMMARY:TRP US Team Immersion 2024 Brisbane
DESCRIPTION:2 DAY MASTERCLASS: LET OUR WORLD-CLASS TEAM CREATE YOUR WORLD-CLASS TEAM \nWhat’s in it for you and your team? \n\nEnergize your team – reconnect them to your purpose and mission\nGreater clarity around roles\, goals and responsibility\nBetter focus on the things that really matter\nLess busyness and overwhelm – more productivity and profit\nConnection with the remarkable tribe – being part of something bigger\nDr. David Fletcher will be speaking at this event
URL:https://insightcla.com/event/trp-us-team-immersion-2024-brisbane/
LOCATION:Eaton Hills Hotel\, 646 South Pine Road\, Brisbane\, QLD\, 4037\, Australia
CATEGORIES:Australia/New Zealand/Fiji
ORGANIZER;CN="The Remarkable Practice AUS":MAILTO:support-aus@theremarkablepractice.com
END:VEVENT
END:VCALENDAR