BEGIN:VCALENDAR
VERSION:2.0
PRODID:-//INSiGHT CLA - ECPv6.15.20//NONSGML v1.0//EN
CALSCALE:GREGORIAN
METHOD:PUBLISH
X-WR-CALNAME:INSiGHT CLA
X-ORIGINAL-URL:https://insightcla.com
X-WR-CALDESC:Events for INSiGHT CLA
REFRESH-INTERVAL;VALUE=DURATION:PT1H
X-Robots-Tag:noindex
X-PUBLISHED-TTL:PT1H
BEGIN:VTIMEZONE
TZID:UTC
BEGIN:STANDARD
TZOFFSETFROM:+0000
TZOFFSETTO:+0000
TZNAME:UTC
DTSTART:20230101T000000
END:STANDARD
END:VTIMEZONE
BEGIN:VEVENT
DTSTART;TZID=UTC:20241003T090000
DTEND;TZID=UTC:20241005T140000
DTSTAMP:20260421T090912
CREATED:20240611T221359Z
LAST-MODIFIED:20240611T221537Z
UID:42364-1727946000-1728136800@insightcla.com
SUMMARY:Life University Fall CElebration 2024
DESCRIPTION:Life University is celebrating its 50th Anniversary. In addition to all the events you know and love\, we will be hosting our golden jubilee gala on Friday\, October 4 to commemorate this amazing milestone. Dr. David Fletcher will be speaking on Friday\, October 4th.
URL:https://insightcla.com/event/life-university-fall-celebration-2024/
LOCATION:Cobb Galleria Centre\, 2 Galleria Pkwy SE\, Atlanta\, 30339
CATEGORIES:Dr. David Fletcher Speaking
ATTACH;FMTTYPE=:
END:VEVENT
END:VCALENDAR