BEGIN:VCALENDAR
VERSION:2.0
PRODID:-//INSiGHT CLA - ECPv6.15.20//NONSGML v1.0//EN
CALSCALE:GREGORIAN
METHOD:PUBLISH
X-WR-CALNAME:INSiGHT CLA
X-ORIGINAL-URL:https://insightcla.com
X-WR-CALDESC:Events for INSiGHT CLA
REFRESH-INTERVAL;VALUE=DURATION:PT1H
X-Robots-Tag:noindex
X-PUBLISHED-TTL:PT1H
BEGIN:VTIMEZONE
TZID:UTC
BEGIN:STANDARD
TZOFFSETFROM:+0000
TZOFFSETTO:+0000
TZNAME:UTC
DTSTART:20250101T000000
END:STANDARD
END:VTIMEZONE
BEGIN:VEVENT
DTSTART;TZID=UTC:20260530T090000
DTEND;TZID=UTC:20260531T140000
DTSTAMP:20260425T202021
CREATED:20260114T213518Z
LAST-MODIFIED:20260114T213518Z
UID:44120-1780131600-1780236000@insightcla.com
SUMMARY:Alliance for Chiropractic (AFC) Spring Conference 2026
DESCRIPTION:Come join us this spring for an incredible event where you’ll be surrounded by the beauty\, connection\, and shared passion of our profession — both on and off the stage. \nThe AFC Spring Conference is an opportunity to reconnect with yourself\, your colleagues\, and the chiropractic profession\, all while earning Continuing Education (CE). It’s a weekend designed to inspire\, educate\, and strengthen our community. \nYour 2026 speakers will be bringing the latest information\, inspiration and ideas on all things Chiropractic both inside and outside of the office. \n 
URL:https://insightcla.com/event/alliance-for-chiropractic-afc-spring-conference-2026/
LOCATION:Four Points Sheraton – Toronto\, 6257 Airport Road\, Mississauga\, Ontario\, L4V 1E4\, Canada
CATEGORIES:Canada
END:VEVENT
BEGIN:VEVENT
DTSTART;TZID=UTC:20260625T000000
DTEND;TZID=UTC:20260626T000000
DTSTAMP:20260425T202021
CREATED:20251203T233532Z
LAST-MODIFIED:20251203T233532Z
UID:44025-1782345600-1782432000@insightcla.com
SUMMARY:PX - June 2026
DESCRIPTION:
URL:https://insightcla.com/event/px-june-2026/
LOCATION:Crystal Lake\, IL
CATEGORIES:Dr. David Fletcher Speaking
END:VEVENT
BEGIN:VEVENT
DTSTART;TZID=UTC:20260820T090000
DTEND;TZID=UTC:20260823T050000
DTSTAMP:20260425T202021
CREATED:20260326T001045Z
LAST-MODIFIED:20260326T001235Z
UID:44273-1787216400-1787461200@insightcla.com
SUMMARY:Mile High Chiro 2026
DESCRIPTION:The Mile High Weekend is an annual event that brings together chiropractors and their teams from all over the world to learn more about the philosophy\, art\, science\, and business of Chiropractic. Much effort is being made constantly to steer Chiropractic away from the time-tested basics of the profession. Mile High is a gathering of doctors who wish to transform the integrity of Chiropractic back to its former stature and make a larger impact on their practices\, their communities and the Chiropractic profession.\nMile High gives you the opportunity to hear more than 25 fabulous speakers\, meet chiropractic teams from all over the world and enjoy an amazing time in the Colorado Rocky Mountain summer \nIn past years\, those who attended have raved about:\n• The tremendous amount of content offered by speakers who are leaders in chiropracTIC.\n• Continuing education they actually wanted to attend and had fun doing.\n• Special discussions and gatherings held over the entire weekend.\n• Learning proven strategies to deal with common problems and take their practices to the next level.\n• The connection\, community and relationships they established with other chiropractors and their teams.\n• The fun they had at the luncheons\, social time and the themed after-party.
URL:https://insightcla.com/event/mile-high-chiro-2026/
LOCATION:Delta Hotels Denver Thornton\, 10 East 120th Avenue\, Northglenn\, CO\, 80233\, United States
ATTACH;FMTTYPE=:
ORGANIZER;CN="Mile High Chiro":MAILTO:support@milehighchiro.org
END:VEVENT
BEGIN:VEVENT
DTSTART;TZID=UTC:20260918T000000
DTEND;TZID=UTC:20260919T000000
DTSTAMP:20260425T202021
CREATED:20251203T233849Z
LAST-MODIFIED:20251204T000705Z
UID:44027-1789689600-1789776000@insightcla.com
SUMMARY:PX and Life Vision Extravaganza - Sept 2026
DESCRIPTION:
URL:https://insightcla.com/event/px-life-vizion-extravaganza-sept-2026/
CATEGORIES:Dr. David Fletcher Speaking
END:VEVENT
BEGIN:VEVENT
DTSTART;TZID=UTC:20260925T080000
DTEND;TZID=UTC:20260926T180000
DTSTAMP:20260425T202021
CREATED:20251111T164809Z
LAST-MODIFIED:20251111T170218Z
UID:44005-1790323200-1790445600@insightcla.com
SUMMARY:ChiroFEST 2026
DESCRIPTION:Join one of the biggest Chiropractic movements in the country! ChiroFEST is leading the way within an industry poised for greatness. Make plans to come to Vancouver\, eager and hungry\, to gain the knowledge and inspiration you need to take your practice to the NEXT LEVEL. \nBecome inspired by some of the sharpest minds\, experts and thought leaders in the chiropractic industry. Redefine your passion for the art\, science\, and philosophy of chiropractic and wellness\, while also gaining knowledge and practical tips to help power up your practice. \n  \n  \n 
URL:https://insightcla.com/event/chirofest-2026/
LOCATION:Vancouver  Hilton\, 301 W 6th Street\, Vancouver\, WA\, 98660\, United States
ORGANIZER;CN="ChiroFEST":MAILTO:chirofestinfo@gmail.com
END:VEVENT
BEGIN:VEVENT
DTSTART;TZID=UTC:20261001T170000
DTEND;TZID=UTC:20261003T180000
DTSTAMP:20260425T202021
CREATED:20260114T180822Z
LAST-MODIFIED:20260114T215948Z
UID:44117-1790874000-1791050400@insightcla.com
SUMMARY:TRP - Business Immersion - Maryland- 2026
DESCRIPTION:Build a Remarkable Practice That Changes Lives—and Supports Yours\n\n\nSystems. Team. Alignment. Excellence.\n\n\nThis is where chiropractic care becomes remarkable. \nThe Remarkable Practice Immersion is where teams learn how to deliver world-class care consistently\, create unforgettable patient experiences\, and produce extraordinary health outcomes—without burning out the doctor or the team. \n\n\nThe Heart of Chiropractic\n\n\nYou became a chiropractor to change lives. \nBut without systems\, alignment\, and shared understanding\, even great doctors struggle to deliver care at the level they know is possible. \nThe Remarkable Practice Immersion is ahands-on\, immersive trainingfor yourentire team—designed to align everyone around the systems\, rhythms\, and responsibilities that create exceptional patient outcomes. \nThis is where: \n\nCare becomes consistent\nTeams become aligned\nPatients stay longer\nResults compound
URL:https://insightcla.com/event/trp-business-immersion-maryland-2026/
ORGANIZER;CN="The Remarkable Practice US":MAILTO:support@theremarkablepractice.com
END:VEVENT
BEGIN:VEVENT
DTSTART;TZID=UTC:20261003T000000
DTEND;TZID=UTC:20261003T000000
DTSTAMP:20260425T202021
CREATED:20260209T165349Z
LAST-MODIFIED:20260209T165520Z
UID:44184-1790985600-1790985600@insightcla.com
SUMMARY:Alliance for Chiropractic (AFC) Fall Conference 2026
DESCRIPTION:
URL:https://insightcla.com/event/alliance-for-chiropractic-afc-fall-conference-2026/
CATEGORIES:Canada
END:VEVENT
BEGIN:VEVENT
DTSTART;TZID=UTC:20261105T000000
DTEND;TZID=UTC:20261106T000000
DTSTAMP:20260425T202021
CREATED:20251204T000849Z
LAST-MODIFIED:20251204T000849Z
UID:44029-1793836800-1793923200@insightcla.com
SUMMARY:PX - Nov 2026
DESCRIPTION:
URL:https://insightcla.com/event/px-nov-2026/
CATEGORIES:Dr. David Fletcher Speaking
END:VEVENT
END:VCALENDAR